BEGIN:VCALENDAR
VERSION:2.0
PRODID:-//thearcmontgomerycounty.org//NONSGML kigkonsult.se iCalcreator 2.3
 0.10//
CALSCALE:GREGORIAN
METHOD:PUBLISH
UID:374f6f2b-25e6-427e-9cf7-fe6266acea33
X-WR-CALDESC:Are you caring for a frail senior citizen or a loved one with 
 disabilities?  Learn how you can get help!  Free admission\; open to the p
 ublic
X-WR-RELCALID:c6c90fad59b77be6b85603b923901fe4
X-WR-TIMEZONE:America/New_York
BEGIN:VTIMEZONE
TZID:America/New_York
BEGIN:STANDARD
TZNAME:EST
DTSTART:20181104T020000
TZOFFSETFROM:-0400
TZOFFSETTO:-0500
RDATE:20191103T020000
END:STANDARD
BEGIN:DAYLIGHT
TZNAME:EDT
DTSTART:20190310T020000
TZOFFSETFROM:-0500
TZOFFSETTO:-0400
RDATE:20200308T020000
END:DAYLIGHT
END:VTIMEZONE
BEGIN:VEVENT
UID:e6dd5681-cfbe-490c-990a-01f5d196f2e9
DTSTAMP:20260421T204019Z
DESCRIPTION:Are you caring for a frail senior citizen or a loved one with d
 isabilities?  Learn how you can get help!  Free admission\; open to the pu
 blic
DTSTART;TZID=America/New_York:20190323T100000
DTEND;TZID=America/New_York:20190323T140000
LOCATION:The Activity Center at Bohrer Park\, Summit Hill Farm\, 506 S. Fre
 derick Avenue\, Gaithersburg
SUMMARY:Respite Resource Fair
END:VEVENT
END:VCALENDAR
