BEGIN:VCALENDAR
VERSION:2.0
PRODID:-//thearcmontgomerycounty.org//NONSGML kigkonsult.se iCalcreator 2.3
 0.10//
CALSCALE:GREGORIAN
METHOD:PUBLISH
UID:322fc040-7e1e-4c07-bcde-9802d788d216
X-WR-CALDESC:
X-WR-RELCALID:ccac7ddcfd53bd68b41f856f15f12e0e
X-WR-TIMEZONE:America/New_York
BEGIN:VTIMEZONE
TZID:America/New_York
BEGIN:STANDARD
TZNAME:EST
DTSTART:20181104T020000
TZOFFSETFROM:-0400
TZOFFSETTO:-0500
RDATE:20191103T020000
END:STANDARD
BEGIN:DAYLIGHT
TZNAME:EDT
DTSTART:20190310T020000
TZOFFSETFROM:-0500
TZOFFSETTO:-0400
RDATE:20200308T020000
END:DAYLIGHT
END:VTIMEZONE
BEGIN:VEVENT
UID:9a1e2e7a-0866-4c75-bf0a-eb9df59fb345
DTSTAMP:20260421T191546Z
DESCRIPTION:
DTSTART;TZID=America/New_York:20190417T193000
DTEND;TZID=America/New_York:20190417T210000
LOCATION:11600 Nebel Street\, Rockville\, MD 20852
SUMMARY:Transition Times Meeting
END:VEVENT
END:VCALENDAR
