BEGIN:VCALENDAR
VERSION:2.0
PRODID:-//thearcmontgomerycounty.org//NONSGML kigkonsult.se iCalcreator 2.3
 0.10//
CALSCALE:GREGORIAN
METHOD:PUBLISH
UID:4d5df3f4-87f8-4a26-8c77-4a5edd74327e
X-WR-CALDESC:Adults with and without disabilities\, at any point in their l
 ifelong journey\, come together to learn about current issues\, participat
 e in advocacy\, and support each other as they strive for independence and
  inclusion.
X-WR-RELCALID:0a4fa5660b814b55c7540eb08efe2c4c
X-WR-TIMEZONE:America/New_York
BEGIN:VTIMEZONE
TZID:America/New_York
BEGIN:STANDARD
TZNAME:EST
DTSTART:20181104T020000
TZOFFSETFROM:-0400
TZOFFSETTO:-0500
RDATE:20191103T020000
END:STANDARD
BEGIN:DAYLIGHT
TZNAME:EDT
DTSTART:20190310T020000
TZOFFSETFROM:-0500
TZOFFSETTO:-0400
RDATE:20200308T020000
END:DAYLIGHT
END:VTIMEZONE
BEGIN:VEVENT
UID:2951ecb2-f3e5-4b9a-83a3-a6d5946e9018
DTSTAMP:20260421T192016Z
DESCRIPTION:Adults with and without disabilities\, at any point in their li
 felong journey\, come together to learn about current issues\, participate
  in advocacy\, and support each other as they strive for independence and 
 inclusion.
DTSTART;TZID=America/New_York:20190425T183000
DTEND;TZID=America/New_York:20190425T193000
LOCATION:Saint Mark Presbyterian Church\, 10701 Old Georgetown Road\, North
  Bethesda\, MD 20852
SUMMARY:STAND Together Meeting
END:VEVENT
END:VCALENDAR
