BEGIN:VCALENDAR
VERSION:2.0
PRODID:-//thearcmontgomerycounty.org//NONSGML kigkonsult.se iCalcreator 2.3
 0.10//
CALSCALE:GREGORIAN
METHOD:PUBLISH
UID:f0644e65-3d19-41d7-9a4e-a3a4ba4bc202
X-WR-CALDESC:
X-WR-RELCALID:bc7948e4ade4ad928097593490a40f4c
X-WR-TIMEZONE:America/New_York
BEGIN:VTIMEZONE
TZID:America/New_York
BEGIN:STANDARD
TZNAME:EST
DTSTART:20181104T020000
TZOFFSETFROM:-0400
TZOFFSETTO:-0500
RDATE:20191103T020000
RDATE:20201101T020000
END:STANDARD
BEGIN:DAYLIGHT
TZNAME:EDT
DTSTART:20190310T020000
TZOFFSETFROM:-0500
TZOFFSETTO:-0400
RDATE:20200308T020000
END:DAYLIGHT
END:VTIMEZONE
BEGIN:VEVENT
UID:c2618643-95a0-412d-a1cb-dfb83434b24a
DTSTAMP:20260421T191855Z
DESCRIPTION:
DTSTART;TZID=America/New_York:20190509T000000
DTEND;TZID=America/New_York:20190512T235900
LOCATION:10730 Connecticut Avenue\, Kensington\, MD 20895
SUMMARY:Urban Thrift – Mother's Day Sale
END:VEVENT
END:VCALENDAR
