BEGIN:VCALENDAR
VERSION:2.0
PRODID:-//thearcmontgomerycounty.org//NONSGML kigkonsult.se iCalcreator 2.3
 0.10//
CALSCALE:GREGORIAN
METHOD:PUBLISH
UID:4836b5c4-ea5a-4723-9251-c224d247689d
X-WR-CALDESC:CANCELLED\; will be rescheduled in the autumn.
X-WR-RELCALID:4ead5a6bd56e7f7f77a0c09cee3c2796
X-WR-TIMEZONE:America/New_York
BEGIN:VTIMEZONE
TZID:America/New_York
BEGIN:STANDARD
TZNAME:EST
DTSTART:20181104T020000
TZOFFSETFROM:-0400
TZOFFSETTO:-0500
RDATE:20191103T020000
RDATE:20201101T020000
END:STANDARD
BEGIN:DAYLIGHT
TZNAME:EDT
DTSTART:20190310T020000
TZOFFSETFROM:-0500
TZOFFSETTO:-0400
RDATE:20200308T020000
END:DAYLIGHT
END:VTIMEZONE
BEGIN:VEVENT
UID:0ec43477-e545-46a4-bdbe-a24651fb0e63
DTSTAMP:20260421T174201Z
DESCRIPTION:CANCELLED\; will be rescheduled in the autumn.
DTSTART;TZID=America/New_York:20190515T193000
DTEND;TZID=America/New_York:20190515T210000
LOCATION:11600 Nebel Street\, Rockville\, MD 20852
SUMMARY:CANCELLED-Transition Times Meeting
END:VEVENT
END:VCALENDAR
