BEGIN:VCALENDAR
VERSION:2.0
PRODID:-//thearcmontgomerycounty.org//NONSGML kigkonsult.se iCalcreator 2.3
 0.10//
CALSCALE:GREGORIAN
METHOD:PUBLISH
UID:a475918f-2fec-4029-a86b-ff4c9b26c3c9
X-WR-CALDESC:
X-WR-RELCALID:76c6197df74183cd5e78ee805ec379d8
X-WR-TIMEZONE:America/New_York
BEGIN:VTIMEZONE
TZID:America/New_York
BEGIN:STANDARD
TZNAME:EST
DTSTART:20181104T020000
TZOFFSETFROM:-0400
TZOFFSETTO:-0500
RDATE:20191103T020000
RDATE:20201101T020000
END:STANDARD
BEGIN:DAYLIGHT
TZNAME:EDT
DTSTART:20190310T020000
TZOFFSETFROM:-0500
TZOFFSETTO:-0400
RDATE:20200308T020000
END:DAYLIGHT
END:VTIMEZONE
BEGIN:VEVENT
UID:b1e91546-6b42-48c1-81b2-85ecb037f731
DTSTAMP:20260421T174012Z
DESCRIPTION:
DTSTART;TZID=America/New_York:20190519T130000
DTEND;TZID=America/New_York:20190519T140000
LOCATION:11600 Nebel Street\, Rockville\, MD 20852
SUMMARY:Volunteer Orientation
END:VEVENT
END:VCALENDAR
