BEGIN:VCALENDAR
VERSION:2.0
PRODID:-//thearcmontgomerycounty.org//NONSGML kigkonsult.se iCalcreator 2.3
 0.10//
CALSCALE:GREGORIAN
METHOD:PUBLISH
UID:1f1d4e44-9c1b-41ba-8731-3fc688fb5bad
X-WR-CALDESC:Visit with local organizations to learn about resources for se
 niors living in Montgomery County AND use your senior discount to take 50%
  off your total purchase!\n
X-WR-RELCALID:997e9aa4f659704dd41e721691e2ef8a
X-WR-TIMEZONE:America/New_York
BEGIN:VTIMEZONE
TZID:America/New_York
BEGIN:STANDARD
TZNAME:EST
DTSTART:20181104T020000
TZOFFSETFROM:-0400
TZOFFSETTO:-0500
RDATE:20191103T020000
RDATE:20201101T020000
END:STANDARD
BEGIN:DAYLIGHT
TZNAME:EDT
DTSTART:20190310T020000
TZOFFSETFROM:-0500
TZOFFSETTO:-0400
RDATE:20200308T020000
END:DAYLIGHT
END:VTIMEZONE
BEGIN:VEVENT
UID:9a462fa2-641c-4e09-a164-d66a9fcb8229
DTSTAMP:20260421T174340Z
DESCRIPTION:Visit with local organizations to learn about resources for sen
 iors living in Montgomery County AND use your senior discount to take 50% 
 off your total purchase!\n
DTSTART;TZID=America/New_York:20190520T110000
DTEND;TZID=America/New_York:20190520T140000
LOCATION:
SUMMARY:Urban Thrift – Senior Resource Monday
END:VEVENT
END:VCALENDAR
