BEGIN:VCALENDAR
VERSION:2.0
PRODID:-//thearcmontgomerycounty.org//NONSGML kigkonsult.se iCalcreator 2.3
 0.10//
CALSCALE:GREGORIAN
METHOD:PUBLISH
UID:5e1e3436-167f-4478-8a18-cacedde1726f
X-WR-CALDESC:
X-WR-RELCALID:6b7e09b284354cc630d265b252d3ca45
X-WR-TIMEZONE:America/New_York
BEGIN:VTIMEZONE
TZID:America/New_York
BEGIN:STANDARD
TZNAME:EST
DTSTART:20181104T020000
TZOFFSETFROM:-0400
TZOFFSETTO:-0500
RDATE:20191103T020000
RDATE:20201101T020000
END:STANDARD
BEGIN:DAYLIGHT
TZNAME:EDT
DTSTART:20190310T020000
TZOFFSETFROM:-0500
TZOFFSETTO:-0400
RDATE:20200308T020000
END:DAYLIGHT
END:VTIMEZONE
BEGIN:VEVENT
UID:65e27a50-7679-43a5-a829-33593b17027a
DTSTAMP:20260421T174323Z
DESCRIPTION:
DTSTART;TZID=America/New_York:20190523T000000
DTEND;TZID=America/New_York:20190527T235900
LOCATION:10730 Connecticut Avenue\, Kensington\, MD 20895
SUMMARY:Urban Thrift – Memorial Day Sale
END:VEVENT
END:VCALENDAR
