BEGIN:VCALENDAR
VERSION:2.0
PRODID:-//thearcmontgomerycounty.org//NONSGML kigkonsult.se iCalcreator 2.3
 0.10//
CALSCALE:GREGORIAN
METHOD:PUBLISH
UID:94aaa663-2e7b-42ff-9d7a-26b3416259ad
X-WR-CALDESC:<b>YOUNG PROFESSIONALS NETWORKING GROUP</b>\n\nDo you enjoy me
 eting like-minded young professionals to share networking\, social\, servi
 ce and educational opportunities? Do you look forward to the occasional we
 ekday Happy Hour? Do you want to get in on the ground floor of an exciting
  new opportunity to show your leadership skills?\n\nJoin us at for the Kic
 koff Happy Hour of FIRE!—Friends of Inclusion\, Respect & Engagement\, The
  Arc Montgomery County's new networking group for young professionals in t
 heir 20's and 30's. We'll provide the bar food and the first round of beer
  or wine. You provide the energy\, creativity and commitment to building a
  community where inclusion\, respect and engagement is real for every pers
 on regardless of ability.
X-WR-RELCALID:c0d9a3c4c59049dfb28e302fba4b63dc
X-WR-TIMEZONE:America/New_York
BEGIN:VTIMEZONE
TZID:America/New_York
BEGIN:STANDARD
TZNAME:EST
DTSTART:20181104T020000
TZOFFSETFROM:-0400
TZOFFSETTO:-0500
RDATE:20191103T020000
RDATE:20201101T020000
END:STANDARD
BEGIN:DAYLIGHT
TZNAME:EDT
DTSTART:20190310T020000
TZOFFSETFROM:-0500
TZOFFSETTO:-0400
RDATE:20200308T020000
END:DAYLIGHT
END:VTIMEZONE
BEGIN:VEVENT
UID:3c4bf9d0-8524-4e86-ae39-f3eaf7548e7e
DTSTAMP:20260421T161432Z
DESCRIPTION:<b>YOUNG PROFESSIONALS NETWORKING GROUP</b>\n\nDo you enjoy mee
 ting like-minded young professionals to share networking\, social\, servic
 e and educational opportunities? Do you look forward to the occasional wee
 kday Happy Hour? Do you want to get in on the ground floor of an exciting 
 new opportunity to show your leadership skills?\n\nJoin us at for the Kick
 off Happy Hour of FIRE!—Friends of Inclusion\, Respect & Engagement\, The 
 Arc Montgomery County's new networking group for young professionals in th
 eir 20's and 30's. We'll provide the bar food and the first round of beer 
 or wine. You provide the energy\, creativity and commitment to building a 
 community where inclusion\, respect and engagement is real for every perso
 n regardless of ability.
DTSTART;TZID=America/New_York:20190605T180000
DTEND;TZID=America/New_York:20190605T200000
LOCATION:Denizen's Brewing Co.\, Silver Spring
SUMMARY:FIRE! Kickoff Happy Hour
END:VEVENT
END:VCALENDAR
