BEGIN:VCALENDAR
VERSION:2.0
PRODID:-//thearcmontgomerycounty.org//NONSGML kigkonsult.se iCalcreator 2.3
 0.10//
CALSCALE:GREGORIAN
METHOD:PUBLISH
UID:a43da744-7b24-47a5-8404-8843c317c365
X-WR-CALDESC:Join us to learn about the history\, purpose\, and activities 
 of STAND Together\, The Arc Montgomery County's advocacy group.
X-WR-RELCALID:0c39a54552534d18ece67e9bed4eaca7
X-WR-TIMEZONE:America/New_York
BEGIN:VTIMEZONE
TZID:America/New_York
BEGIN:STANDARD
TZNAME:EST
DTSTART:20181104T020000
TZOFFSETFROM:-0400
TZOFFSETTO:-0500
RDATE:20191103T020000
RDATE:20201101T020000
END:STANDARD
BEGIN:DAYLIGHT
TZNAME:EDT
DTSTART:20190310T020000
TZOFFSETFROM:-0500
TZOFFSETTO:-0400
RDATE:20200308T020000
END:DAYLIGHT
END:VTIMEZONE
BEGIN:VEVENT
UID:0ee687a6-ed5f-447b-8e2f-225a3867f041
DTSTAMP:20260421T161841Z
DESCRIPTION:Join us to learn about the history\, purpose\, and activities o
 f STAND Together\, The Arc Montgomery County's advocacy group.
DTSTART;TZID=America/New_York:20190615T110000
DTEND;TZID=America/New_York:20190615T140000
LOCATION:11600 Nebel Street\, Rockville\, MD 20852
SUMMARY:STAND Together Open House
END:VEVENT
END:VCALENDAR
