BEGIN:VCALENDAR
VERSION:2.0
PRODID:-//thearcmontgomerycounty.org//NONSGML kigkonsult.se iCalcreator 2.3
 0.10//
CALSCALE:GREGORIAN
METHOD:PUBLISH
UID:de947b7e-44b3-46b8-a2fa-6c605cd7c935
X-WR-CALDESC:Visit with local organizations to learn about resources for se
 niors living in Montgomery County AND use your senior discount to take 50%
  off your total purchase!\n
X-WR-RELCALID:275b6c2d1c1cd8427666e499be0bd277
X-WR-TIMEZONE:America/New_York
BEGIN:VTIMEZONE
TZID:America/New_York
BEGIN:STANDARD
TZNAME:EST
DTSTART:20181104T020000
TZOFFSETFROM:-0400
TZOFFSETTO:-0500
RDATE:20191103T020000
RDATE:20201101T020000
END:STANDARD
BEGIN:DAYLIGHT
TZNAME:EDT
DTSTART:20190310T020000
TZOFFSETFROM:-0500
TZOFFSETTO:-0400
RDATE:20200308T020000
END:DAYLIGHT
END:VTIMEZONE
BEGIN:VEVENT
UID:82133cfc-5dc6-4cb6-af6f-a044a2cb65b2
DTSTAMP:20260421T162035Z
DESCRIPTION:Visit with local organizations to learn about resources for sen
 iors living in Montgomery County AND use your senior discount to take 50% 
 off your total purchase!\n
DTSTART;TZID=America/New_York:20190624T110000
DTEND;TZID=America/New_York:20190624T140000
LOCATION:
SUMMARY:Urban Thrift – Senior Resource Monday
END:VEVENT
END:VCALENDAR
