BEGIN:VCALENDAR
VERSION:2.0
PRODID:-//thearcmontgomerycounty.org//NONSGML kigkonsult.se iCalcreator 2.3
 0.10//
CALSCALE:GREGORIAN
METHOD:PUBLISH
UID:f007272a-db29-4b04-b43d-c91646cee168
X-WR-CALDESC:<b>ADVANCE REGISTRATION REQUIRED!</b>  \nRegistration closes o
 n June 21\, 2019 at 11:45 pm.  No additional registrations will be accepte
 d after this time.\n\nThe Membership Meeting is open to current members of
  The Arc Montgomery County. Twelve months of membership is conferred for a
 ny donation of $50 or more\, beginning on the date of the contribution. If
  you have questions regarding your membership status\, contact Deborah Mar
 k at 301.984.5777 x1245.
X-WR-RELCALID:be77ffadb07b1a527fcd33da86978a99
X-WR-TIMEZONE:America/New_York
BEGIN:VTIMEZONE
TZID:America/New_York
BEGIN:STANDARD
TZNAME:EST
DTSTART:20181104T020000
TZOFFSETFROM:-0400
TZOFFSETTO:-0500
RDATE:20191103T020000
RDATE:20201101T020000
END:STANDARD
BEGIN:DAYLIGHT
TZNAME:EDT
DTSTART:20190310T020000
TZOFFSETFROM:-0500
TZOFFSETTO:-0400
RDATE:20200308T020000
END:DAYLIGHT
END:VTIMEZONE
BEGIN:VEVENT
UID:681a25be-bd4f-4134-8781-12c791332892
DTSTAMP:20260421T162014Z
DESCRIPTION:<b>ADVANCE REGISTRATION REQUIRED!</b>  \nRegistration closes on
  June 21\, 2019 at 11:45 pm.  No additional registrations will be accepted
  after this time.\n\nThe Membership Meeting is open to current members of 
 The Arc Montgomery County. Twelve months of membership is conferred for an
 y donation of $50 or more\, beginning on the date of the contribution. If 
 you have questions regarding your membership status\, contact Deborah Mark
  at 301.984.5777 x1245.
DTSTART;TZID=America/New_York:20190626T190000
DTEND;TZID=America/New_York:20190626T200000
LOCATION:To Be Determined
SUMMARY:Membership Meeting with Board Elections
END:VEVENT
END:VCALENDAR
