BEGIN:VCALENDAR
VERSION:2.0
PRODID:-//thearcmontgomerycounty.org//NONSGML kigkonsult.se iCalcreator 2.3
 0.10//
CALSCALE:GREGORIAN
METHOD:PUBLISH
UID:72f9d850-bd7c-4817-8f8a-6b23dfa3125c
X-WR-CALDESC:<b>The Community\, Staff & Volunteer Awards Ceremony is an inv
 itation-only event.</b>  Please review your letter of invitation for regis
 tration details.\n\nADVANCE REGISTRATION REQUIRED!  Registration closes on
  June 21\, 2019 at 11:45 pm.  No additional registrations will be accepted
  after this time.\n\n
X-WR-RELCALID:9e94001a51275dbb202294723acd274d
X-WR-TIMEZONE:America/New_York
BEGIN:VTIMEZONE
TZID:America/New_York
BEGIN:STANDARD
TZNAME:EST
DTSTART:20181104T020000
TZOFFSETFROM:-0400
TZOFFSETTO:-0500
RDATE:20191103T020000
RDATE:20201101T020000
END:STANDARD
BEGIN:DAYLIGHT
TZNAME:EDT
DTSTART:20190310T020000
TZOFFSETFROM:-0500
TZOFFSETTO:-0400
RDATE:20200308T020000
END:DAYLIGHT
END:VTIMEZONE
BEGIN:VEVENT
UID:de5e893a-b501-48b3-a961-e02baadbf643
DTSTAMP:20260421T145220Z
DESCRIPTION:<b>The Community\, Staff & Volunteer Awards Ceremony is an invi
 tation-only event.</b>  Please review your letter of invitation for regist
 ration details.\n\nADVANCE REGISTRATION REQUIRED!  Registration closes on 
 June 21\, 2019 at 11:45 pm.  No additional registrations will be accepted 
 after this time.\n\n
DTSTART;TZID=America/New_York:20190709T190000
DTEND;TZID=America/New_York:20190709T210000
LOCATION:VisArts\, 155 Gibbs Street\, Rockville\, MD
SUMMARY:Community\, Staff & Volunteer Awards Ceremony
END:VEVENT
END:VCALENDAR
