BEGIN:VCALENDAR
VERSION:2.0
PRODID:-//thearcmontgomerycounty.org//NONSGML kigkonsult.se iCalcreator 2.3
 0.10//
CALSCALE:GREGORIAN
METHOD:PUBLISH
UID:fea634ba-585d-4825-9512-d453c467daa8
X-WR-CALDESC:Visit with local organizations to learn about resources for se
 niors living in Montgomery County AND use your senior discount to take 50%
  off your total purchase!\n
X-WR-RELCALID:3e457f16ef54b74fdd2dd60eca0b475b
X-WR-TIMEZONE:America/New_York
BEGIN:VTIMEZONE
TZID:America/New_York
BEGIN:STANDARD
TZNAME:EST
DTSTART:20181104T020000
TZOFFSETFROM:-0400
TZOFFSETTO:-0500
RDATE:20191103T020000
RDATE:20201101T020000
END:STANDARD
BEGIN:DAYLIGHT
TZNAME:EDT
DTSTART:20190310T020000
TZOFFSETFROM:-0500
TZOFFSETTO:-0400
RDATE:20200308T020000
END:DAYLIGHT
END:VTIMEZONE
BEGIN:VEVENT
UID:f3911b0f-8d1e-4c06-b197-b82b021200fd
DTSTAMP:20260421T145359Z
DESCRIPTION:Visit with local organizations to learn about resources for sen
 iors living in Montgomery County AND use your senior discount to take 50% 
 off your total purchase!\n
DTSTART;TZID=America/New_York:20190722T110000
DTEND;TZID=America/New_York:20190722T140000
LOCATION:
SUMMARY:Urban Thrift – Senior Resource Monday
END:VEVENT
END:VCALENDAR
