BEGIN:VCALENDAR
VERSION:2.0
PRODID:-//thearcmontgomerycounty.org//NONSGML kigkonsult.se iCalcreator 2.3
 0.10//
CALSCALE:GREGORIAN
METHOD:PUBLISH
UID:69378bb2-b9c3-4c53-b77b-17c40b3628b8
X-WR-CALDESC:PLEASE NOTE CHANGE IN LOCATION!!
X-WR-RELCALID:17d03a89ce42030564b2a64b61034bc4
X-WR-TIMEZONE:America/New_York
BEGIN:VTIMEZONE
TZID:America/New_York
BEGIN:STANDARD
TZNAME:EST
DTSTART:20181104T020000
TZOFFSETFROM:-0400
TZOFFSETTO:-0500
RDATE:20191103T020000
RDATE:20201101T020000
END:STANDARD
BEGIN:DAYLIGHT
TZNAME:EDT
DTSTART:20190310T020000
TZOFFSETFROM:-0500
TZOFFSETTO:-0400
RDATE:20200308T020000
END:DAYLIGHT
END:VTIMEZONE
BEGIN:VEVENT
UID:095a5965-b248-42cd-9380-d9c136bf0fd6
DTSTAMP:20260421T131655Z
DESCRIPTION:PLEASE NOTE CHANGE IN LOCATION!!
DTSTART;TZID=America/New_York:20190812T180000
DTEND;TZID=America/New_York:20190812T190000
LOCATION:Rockville Library\, Room 3\, 21 Maryland Avenue\, Rockville\, MD 2
 0850
SUMMARY:Volunteer Orientation
END:VEVENT
END:VCALENDAR
