BEGIN:VCALENDAR
VERSION:2.0
PRODID:-//thearcmontgomerycounty.org//NONSGML kigkonsult.se iCalcreator 2.3
 0.10//
CALSCALE:GREGORIAN
METHOD:PUBLISH
UID:47233479-fb28-41a6-a0e2-4625e6427fbe
X-WR-CALDESC:Visit with local organizations to learn about resources for se
 niors living in Montgomery County AND use your senior discount to take 50%
  off your total purchase!\n
X-WR-RELCALID:0afb51ca5ae33bd458fc4e51541be5c1
X-WR-TIMEZONE:America/New_York
BEGIN:VTIMEZONE
TZID:America/New_York
BEGIN:STANDARD
TZNAME:EST
DTSTART:20181104T020000
TZOFFSETFROM:-0400
TZOFFSETTO:-0500
RDATE:20191103T020000
RDATE:20201101T020000
END:STANDARD
BEGIN:DAYLIGHT
TZNAME:EDT
DTSTART:20190310T020000
TZOFFSETFROM:-0500
TZOFFSETTO:-0400
RDATE:20200308T020000
END:DAYLIGHT
END:VTIMEZONE
BEGIN:VEVENT
UID:733e2955-4e83-48c7-b02f-889ed6b37649
DTSTAMP:20260421T132238Z
DESCRIPTION:Visit with local organizations to learn about resources for sen
 iors living in Montgomery County AND use your senior discount to take 50% 
 off your total purchase!\n
DTSTART;TZID=America/New_York:20190819T110000
DTEND;TZID=America/New_York:20190819T140000
LOCATION:Urban Thrift\, 10730 Connecticut Avenue\, Kensington\, MD 20895
SUMMARY:Urban Thrift – Senior Resource Monday
END:VEVENT
END:VCALENDAR
