BEGIN:VCALENDAR
VERSION:2.0
PRODID:-//thearcmontgomerycounty.org//NONSGML kigkonsult.se iCalcreator 2.3
 0.10//
CALSCALE:GREGORIAN
METHOD:PUBLISH
UID:c722f6f9-c788-4076-8938-46ee4aa72b6e
X-WR-CALDESC:
X-WR-RELCALID:2387d4e962cba359ac71fda0c71e11f6
X-WR-TIMEZONE:America/New_York
BEGIN:VTIMEZONE
TZID:America/New_York
BEGIN:STANDARD
TZNAME:EST
DTSTART:20181104T020000
TZOFFSETFROM:-0400
TZOFFSETTO:-0500
RDATE:20191103T020000
RDATE:20201101T020000
END:STANDARD
BEGIN:DAYLIGHT
TZNAME:EDT
DTSTART:20190310T020000
TZOFFSETFROM:-0500
TZOFFSETTO:-0400
RDATE:20200308T020000
RDATE:20210314T020000
END:DAYLIGHT
END:VTIMEZONE
BEGIN:VEVENT
UID:8949d97c-84b2-4e40-82bd-769b7e09ab34
DTSTAMP:20260421T150501Z
DESCRIPTION:
DTSTART;TZID=America/New_York:20191011T000000
DTEND;TZID=America/New_York:20191014T235900
LOCATION:Grand Hyatt\, Washington\, DC
SUMMARY:The Arc US Convention
END:VEVENT
END:VCALENDAR
