BEGIN:VCALENDAR
VERSION:2.0
PRODID:-//thearcmontgomerycounty.org//NONSGML kigkonsult.se iCalcreator 2.3
 0.10//
CALSCALE:GREGORIAN
METHOD:PUBLISH
UID:6dfad41a-0375-4235-8426-fa048abb6bdc
X-WR-CALDESC:Non-scary Halloween party for families with children enrolled 
 at KFICCC and their friends.
X-WR-RELCALID:f6b0fdaa84c0dfe148459b6ead235492
X-WR-TIMEZONE:America/New_York
BEGIN:VTIMEZONE
TZID:America/New_York
BEGIN:STANDARD
TZNAME:EST
DTSTART:20181104T020000
TZOFFSETFROM:-0400
TZOFFSETTO:-0500
RDATE:20191103T020000
RDATE:20201101T020000
END:STANDARD
BEGIN:DAYLIGHT
TZNAME:EDT
DTSTART:20190310T020000
TZOFFSETFROM:-0500
TZOFFSETTO:-0400
RDATE:20200308T020000
RDATE:20210314T020000
END:DAYLIGHT
END:VTIMEZONE
BEGIN:VEVENT
UID:86d78949-4ad7-4aca-bf69-288b3025fc87
DTSTAMP:20260421T131649Z
DESCRIPTION:Non-scary Halloween party for families with children enrolled a
 t KFICCC and their friends.
DTSTART;TZID=America/New_York:20191019T160000
DTEND;TZID=America/New_York:20191019T190000
LOCATION:KFICCC\, 10611 Tenbrook Drive\, Silver Spring\, MD 20901
SUMMARY:KFICCC Toddler BOOgie
END:VEVENT
END:VCALENDAR
