BEGIN:VCALENDAR
VERSION:2.0
PRODID:-//thearcmontgomerycounty.org//NONSGML kigkonsult.se iCalcreator 2.3
 0.10//
CALSCALE:GREGORIAN
METHOD:PUBLISH
UID:1c967657-8a09-4407-b1be-40b3d3725334
X-WR-CALDESC:Come see our new headquarters!  Open to guests from 8 am until
  2 pm\, with tours on the hour and half-hour.  Ribbon-cutting ceremony wit
 h special guests will be held at 10:30 am.
X-WR-RELCALID:e3d8b14c205b1a4e62996e3e9e21678f
X-WR-TIMEZONE:America/New_York
BEGIN:VTIMEZONE
TZID:America/New_York
BEGIN:STANDARD
TZNAME:EST
DTSTART:20181104T020000
TZOFFSETFROM:-0400
TZOFFSETTO:-0500
RDATE:20191103T020000
RDATE:20201101T020000
END:STANDARD
BEGIN:DAYLIGHT
TZNAME:EDT
DTSTART:20190310T020000
TZOFFSETFROM:-0500
TZOFFSETTO:-0400
RDATE:20200308T020000
RDATE:20210314T020000
END:DAYLIGHT
END:VTIMEZONE
BEGIN:VEVENT
UID:94a85d70-6368-47cc-a28b-7d81e64245b4
DTSTAMP:20260421T132120Z
DESCRIPTION:Come see our new headquarters!  Open to guests from 8 am until 
 2 pm\, with tours on the hour and half-hour.  Ribbon-cutting ceremony with
  special guests will be held at 10:30 am.
DTSTART;TZID=America/New_York:20191031T080000
DTEND;TZID=America/New_York:20191031T140000
LOCATION:7362 Calhoun Place\, Rockville\, MD 20855
SUMMARY:Headquarters Grand Opening and Ribbon Cutting
END:VEVENT
END:VCALENDAR
