BEGIN:VCALENDAR
VERSION:2.0
PRODID:-//thearcmontgomerycounty.org//NONSGML kigkonsult.se iCalcreator 2.3
 0.10//
CALSCALE:GREGORIAN
METHOD:PUBLISH
UID:ce91ff2f-4942-4603-8062-ea5648951079
X-WR-CALDESC:
X-WR-RELCALID:23c4ee88dab4557da68d280cd0e4c1e5
X-WR-TIMEZONE:America/New_York
BEGIN:VTIMEZONE
TZID:America/New_York
BEGIN:STANDARD
TZNAME:EST
DTSTART:20181104T020000
TZOFFSETFROM:-0400
TZOFFSETTO:-0500
RDATE:20191103T020000
RDATE:20201101T020000
END:STANDARD
BEGIN:DAYLIGHT
TZNAME:EDT
DTSTART:20190310T020000
TZOFFSETFROM:-0500
TZOFFSETTO:-0400
RDATE:20200308T020000
RDATE:20210314T020000
END:DAYLIGHT
END:VTIMEZONE
BEGIN:VEVENT
UID:9c67b040-0e1e-4aaf-b16a-ee831aa897e9
DTSTAMP:20260421T144740Z
DESCRIPTION:
DTSTART;TZID=America/New_York:20191101T160000
DTEND;TZID=America/New_York:20191101T170000
LOCATION:7362 Calhoun Place\, Rockville\, MD 20855
SUMMARY:Volunteer Orientation
END:VEVENT
END:VCALENDAR
