BEGIN:VCALENDAR
VERSION:2.0
PRODID:-//thearcmontgomerycounty.org//NONSGML kigkonsult.se iCalcreator 2.3
 0.10//
CALSCALE:GREGORIAN
METHOD:PUBLISH
UID:3b368234-ffc4-44a9-aec0-30d291e26ed6
X-WR-CALDESC:Small Gym\, N. Campus Drive
X-WR-RELCALID:09aa25e097179e6f21631ec43cce7485
X-WR-TIMEZONE:America/New_York
BEGIN:VTIMEZONE
TZID:America/New_York
BEGIN:STANDARD
TZNAME:EST
DTSTART:20181104T020000
TZOFFSETFROM:-0400
TZOFFSETTO:-0500
RDATE:20191103T020000
RDATE:20201101T020000
END:STANDARD
BEGIN:DAYLIGHT
TZNAME:EDT
DTSTART:20190310T020000
TZOFFSETFROM:-0500
TZOFFSETTO:-0400
RDATE:20200308T020000
RDATE:20210314T020000
END:DAYLIGHT
END:VTIMEZONE
BEGIN:VEVENT
UID:e0b53c5b-afae-4929-a717-bbfc2d211230
DTSTAMP:20260421T144924Z
DESCRIPTION:Small Gym\, N. Campus Drive
DTSTART;TZID=America/New_York:20191102T090000
DTEND;TZID=America/New_York:20191102T130000
LOCATION:Montgomery College\, Rockville
SUMMARY:Transitioning Youth Resource Fair
END:VEVENT
END:VCALENDAR
