BEGIN:VCALENDAR
VERSION:2.0
PRODID:-//thearcmontgomerycounty.org//NONSGML kigkonsult.se iCalcreator 2.3
 0.10//
CALSCALE:GREGORIAN
METHOD:PUBLISH
UID:f1d55555-77f6-4129-8936-7190b1edb44d
X-WR-CALDESC:
X-WR-RELCALID:925376595e3ad795877435a1bd4af20f
X-WR-TIMEZONE:America/New_York
BEGIN:VTIMEZONE
TZID:America/New_York
BEGIN:STANDARD
TZNAME:EST
DTSTART:20191103T020000
TZOFFSETFROM:-0400
TZOFFSETTO:-0500
RDATE:20201101T020000
END:STANDARD
BEGIN:DAYLIGHT
TZNAME:EDT
DTSTART:20190310T020000
TZOFFSETFROM:-0500
TZOFFSETTO:-0400
RDATE:20200308T020000
RDATE:20210314T020000
END:DAYLIGHT
END:VTIMEZONE
BEGIN:VEVENT
UID:f3fe34e8-62ce-4d8a-abfe-7824bb7b8c5a
DTSTAMP:20260421T144848Z
DESCRIPTION:
DTSTART;TZID=America/New_York:20191113T190000
DTEND;TZID=America/New_York:20191113T203000
LOCATION:7362 Calhoun Place\, Rockville\, MD 20855
SUMMARY:Transition Times Meeting
END:VEVENT
END:VCALENDAR
