BEGIN:VCALENDAR
VERSION:2.0
PRODID:-//thearcmontgomerycounty.org//NONSGML kigkonsult.se iCalcreator 2.3
 0.10//
CALSCALE:GREGORIAN
METHOD:PUBLISH
UID:d5a61914-765f-436d-bf93-37e0f58e90b3
X-WR-CALDESC:
X-WR-RELCALID:6e08540ab9674b800d2ebd612c72ecab
X-WR-TIMEZONE:America/New_York
BEGIN:VTIMEZONE
TZID:America/New_York
BEGIN:STANDARD
TZNAME:EST
DTSTART:20191103T020000
TZOFFSETFROM:-0400
TZOFFSETTO:-0500
RDATE:20201101T020000
END:STANDARD
BEGIN:DAYLIGHT
TZNAME:EDT
DTSTART:20190310T020000
TZOFFSETFROM:-0500
TZOFFSETTO:-0400
RDATE:20200308T020000
RDATE:20210314T020000
END:DAYLIGHT
END:VTIMEZONE
BEGIN:VEVENT
UID:911e5308-2e38-4e86-96b5-1001082a86c6
DTSTAMP:20260421T161611Z
DESCRIPTION:
DTSTART;TZID=America/New_York:20191206T160000
DTEND;TZID=America/New_York:20191206T170000
LOCATION:7362 Calhoun Place\, Rockville\, MD 20855
SUMMARY:Volunteer Orientation
END:VEVENT
END:VCALENDAR
