BEGIN:VCALENDAR
VERSION:2.0
PRODID:-//thearcmontgomerycounty.org//NONSGML kigkonsult.se iCalcreator 2.3
 0.10//
CALSCALE:GREGORIAN
METHOD:PUBLISH
UID:7e310f79-d59c-49fc-bb96-1a326929e2fd
X-WR-CALDESC:
X-WR-RELCALID:50f3dca176c8030f5b7a44d8182768b1
X-WR-TIMEZONE:America/New_York
BEGIN:VTIMEZONE
TZID:America/New_York
BEGIN:STANDARD
TZNAME:EST
DTSTART:20191103T020000
TZOFFSETFROM:-0400
TZOFFSETTO:-0500
RDATE:20201101T020000
END:STANDARD
BEGIN:DAYLIGHT
TZNAME:EDT
DTSTART:20190310T020000
TZOFFSETFROM:-0500
TZOFFSETTO:-0400
RDATE:20200308T020000
RDATE:20210314T020000
END:DAYLIGHT
END:VTIMEZONE
BEGIN:VEVENT
UID:6abd22d6-b4df-4189-bb6c-fb947912727f
DTSTAMP:20260421T161744Z
DESCRIPTION:
DTSTART;TZID=America/New_York:20191211T190000
DTEND;TZID=America/New_York:20191211T203000
LOCATION:7362 Calhoun Place\, Rockville\, MD 20855
SUMMARY:Transition Times Meeting
END:VEVENT
END:VCALENDAR
