BEGIN:VCALENDAR
VERSION:2.0
PRODID:-//thearcmontgomerycounty.org//NONSGML kigkonsult.se iCalcreator 2.3
 0.10//
CALSCALE:GREGORIAN
METHOD:PUBLISH
UID:61749c06-d292-4049-b87d-50189d1bc6c2
X-WR-CALDESC:
X-WR-RELCALID:c8c2c7d99b29cba295dbc52af8ffc567
X-WR-TIMEZONE:America/New_York
BEGIN:VTIMEZONE
TZID:America/New_York
BEGIN:STANDARD
TZNAME:EST
DTSTART:20191103T020000
TZOFFSETFROM:-0400
TZOFFSETTO:-0500
RDATE:20201101T020000
END:STANDARD
BEGIN:DAYLIGHT
TZNAME:EDT
DTSTART:20190310T020000
TZOFFSETFROM:-0500
TZOFFSETTO:-0400
RDATE:20200308T020000
RDATE:20210314T020000
END:DAYLIGHT
END:VTIMEZONE
BEGIN:VEVENT
UID:6522b69d-e57a-477a-8ff2-94948606ef61
DTSTAMP:20260421T173854Z
DESCRIPTION:
DTSTART;TZID=America/New_York:20200103T160000
DTEND;TZID=America/New_York:20200103T170000
LOCATION:7362 Calhoun Place\, Rockville\, MD 20855
SUMMARY:Volunteer Orientation
END:VEVENT
END:VCALENDAR
