BEGIN:VCALENDAR
VERSION:2.0
PRODID:-//thearcmontgomerycounty.org//NONSGML kigkonsult.se iCalcreator 2.3
 0.10//
CALSCALE:GREGORIAN
METHOD:PUBLISH
UID:bc8ddeb4-91d6-49c6-bc87-b39010c02471
X-WR-CALDESC:
X-WR-RELCALID:7ffde1ae0d0a556b83fc04361af627a3
X-WR-TIMEZONE:America/New_York
BEGIN:VTIMEZONE
TZID:America/New_York
BEGIN:STANDARD
TZNAME:EST
DTSTART:20191103T020000
TZOFFSETFROM:-0400
TZOFFSETTO:-0500
RDATE:20201101T020000
END:STANDARD
BEGIN:DAYLIGHT
TZNAME:EDT
DTSTART:20190310T020000
TZOFFSETFROM:-0500
TZOFFSETTO:-0400
RDATE:20200308T020000
RDATE:20210314T020000
END:DAYLIGHT
END:VTIMEZONE
BEGIN:VEVENT
UID:7a4882e9-2e6b-4d46-ab4a-d33b147e1133
DTSTAMP:20260421T174022Z
DESCRIPTION:
DTSTART;TZID=America/New_York:20200115T190000
DTEND;TZID=America/New_York:20200115T203000
LOCATION:7362 Calhoun Place\, Rockville\, MD 20855
SUMMARY:Transition Times Meeting
END:VEVENT
END:VCALENDAR
