BEGIN:VCALENDAR
VERSION:2.0
PRODID:-//thearcmontgomerycounty.org//NONSGML kigkonsult.se iCalcreator 2.3
 0.10//
CALSCALE:GREGORIAN
METHOD:PUBLISH
UID:70c6e9f5-4c5a-48b4-95ca-f721d0fec1b4
X-WR-CALDESC:Take 50% off everything in the store.
X-WR-RELCALID:d143836b508ab467289f54659e3740fb
X-WR-TIMEZONE:America/New_York
BEGIN:VTIMEZONE
TZID:America/New_York
BEGIN:STANDARD
TZNAME:EST
DTSTART:20191103T020000
TZOFFSETFROM:-0400
TZOFFSETTO:-0500
RDATE:20201101T020000
END:STANDARD
BEGIN:DAYLIGHT
TZNAME:EDT
DTSTART:20190310T020000
TZOFFSETFROM:-0500
TZOFFSETTO:-0400
RDATE:20200308T020000
RDATE:20210314T020000
END:DAYLIGHT
END:VTIMEZONE
BEGIN:VEVENT
UID:477a1288-43e3-4880-9ab3-4e11d191788c
DTSTAMP:20260421T174441Z
DESCRIPTION:Take 50% off everything in the store.
DTSTART;TZID=America/New_York:20200116T000000
DTEND;TZID=America/New_York:20200120T235900
LOCATION:Urban Thrift\, 10730 Connecticut Avenue\, Kensington\, MD 20895
SUMMARY:Urban Thrift Winter Savings Sale
END:VEVENT
END:VCALENDAR
