BEGIN:VCALENDAR
VERSION:2.0
PRODID:-//thearcmontgomerycounty.org//NONSGML kigkonsult.se iCalcreator 2.3
 0.10//
CALSCALE:GREGORIAN
METHOD:PUBLISH
UID:b3e5975a-a13d-4beb-9a34-140675a1aa6a
X-WR-CALDESC:Take 50% off everything in the store.
X-WR-RELCALID:021860c8610b2666d4fe64f019c49059
X-WR-TIMEZONE:America/New_York
BEGIN:VTIMEZONE
TZID:America/New_York
BEGIN:STANDARD
TZNAME:EST
DTSTART:20191103T020000
TZOFFSETFROM:-0400
TZOFFSETTO:-0500
RDATE:20201101T020000
END:STANDARD
BEGIN:DAYLIGHT
TZNAME:EDT
DTSTART:20190310T020000
TZOFFSETFROM:-0500
TZOFFSETTO:-0400
RDATE:20200308T020000
RDATE:20210314T020000
END:DAYLIGHT
END:VTIMEZONE
BEGIN:VEVENT
UID:9464fb14-3be1-4d00-af9a-10fc82533160
DTSTAMP:20260421T191726Z
DESCRIPTION:Take 50% off everything in the store.
DTSTART;TZID=America/New_York:20200129T000000
DTEND;TZID=America/New_York:20200202T235900
LOCATION:Urban Thrift\, 10730 Connecticut Avenue\, Kensington\, MD 20895
SUMMARY:Urban Thrift Groundhog Day Sale
END:VEVENT
END:VCALENDAR
