BEGIN:VCALENDAR
VERSION:2.0
PRODID:-//thearcmontgomerycounty.org//NONSGML kigkonsult.se iCalcreator 2.3
 0.10//
CALSCALE:GREGORIAN
METHOD:PUBLISH
UID:0ebf1f76-f091-4ea6-8c74-b387756604d6
X-WR-CALDESC:Recognition event for staff receiving tenure awards and their 
 guests.
X-WR-RELCALID:14a2cbe7a0596fb4d3808b297b7dfbeb
X-WR-TIMEZONE:America/New_York
BEGIN:VTIMEZONE
TZID:America/New_York
BEGIN:STANDARD
TZNAME:EST
DTSTART:20191103T020000
TZOFFSETFROM:-0400
TZOFFSETTO:-0500
RDATE:20201101T020000
END:STANDARD
BEGIN:DAYLIGHT
TZNAME:EDT
DTSTART:20190310T020000
TZOFFSETFROM:-0500
TZOFFSETTO:-0400
RDATE:20200308T020000
RDATE:20210314T020000
END:DAYLIGHT
END:VTIMEZONE
BEGIN:VEVENT
UID:0b31162f-9e9e-413b-a676-86c27f02701a
DTSTAMP:20260421T191556Z
DESCRIPTION:Recognition event for staff receiving tenure awards and their g
 uests.
DTSTART;TZID=America/New_York:20200205T190000
DTEND;TZID=America/New_York:20200205T203000
LOCATION:BY INVITATION ONLY
SUMMARY:Staff Tenure Recognition Ceremony
END:VEVENT
END:VCALENDAR
