BEGIN:VCALENDAR
VERSION:2.0
PRODID:-//thearcmontgomerycounty.org//NONSGML kigkonsult.se iCalcreator 2.3
 0.10//
CALSCALE:GREGORIAN
METHOD:PUBLISH
UID:d2d27a2b-868d-486d-9793-2cce13ed5af0
X-WR-CALDESC:
X-WR-RELCALID:08b4f7d528cf19349bf4ceb839b50cba
X-WR-TIMEZONE:America/New_York
BEGIN:VTIMEZONE
TZID:America/New_York
BEGIN:STANDARD
TZNAME:EST
DTSTART:20191103T020000
TZOFFSETFROM:-0400
TZOFFSETTO:-0500
RDATE:20201101T020000
END:STANDARD
BEGIN:DAYLIGHT
TZNAME:EDT
DTSTART:20190310T020000
TZOFFSETFROM:-0500
TZOFFSETTO:-0400
RDATE:20200308T020000
RDATE:20210314T020000
END:DAYLIGHT
END:VTIMEZONE
BEGIN:VEVENT
UID:18671425-cb13-4f1d-9b53-1b8f37103a41
DTSTAMP:20260421T191511Z
DESCRIPTION:
DTSTART;TZID=America/New_York:20200207T160000
DTEND;TZID=America/New_York:20200207T170000
LOCATION:7362 Calhoun Place\, Rockville\, MD 20855
SUMMARY:Volunteer Orientation
END:VEVENT
END:VCALENDAR
