BEGIN:VCALENDAR
VERSION:2.0
PRODID:-//thearcmontgomerycounty.org//NONSGML kigkonsult.se iCalcreator 2.3
 0.10//
CALSCALE:GREGORIAN
METHOD:PUBLISH
UID:7c04b59f-38ab-40a7-9678-71b513bc63c4
X-WR-CALDESC:Advance registration and payment required.
X-WR-RELCALID:2db2de6222df8ba2120088e255afe937
X-WR-TIMEZONE:America/New_York
BEGIN:VTIMEZONE
TZID:America/New_York
BEGIN:STANDARD
TZNAME:EST
DTSTART:20191103T020000
TZOFFSETFROM:-0400
TZOFFSETTO:-0500
RDATE:20201101T020000
END:STANDARD
BEGIN:DAYLIGHT
TZNAME:EDT
DTSTART:20190310T020000
TZOFFSETFROM:-0500
TZOFFSETTO:-0400
RDATE:20200308T020000
RDATE:20210314T020000
END:DAYLIGHT
END:VTIMEZONE
BEGIN:VEVENT
UID:b9c9fb19-3ff9-44df-88bc-320c0d15aef2
DTSTAMP:20260421T191719Z
DESCRIPTION:Advance registration and payment required.
DTSTART;TZID=America/New_York:20200212T080000
DTEND;TZID=America/New_York:20200212T140000
LOCATION:Annapolis\, MD
SUMMARY:DD Day at the Legislature
END:VEVENT
END:VCALENDAR
