BEGIN:VCALENDAR
VERSION:2.0
PRODID:-//thearcmontgomerycounty.org//NONSGML kigkonsult.se iCalcreator 2.3
 0.10//
CALSCALE:GREGORIAN
METHOD:PUBLISH
UID:f753f3a6-1405-4aa3-83be-b0f1412fd41f
X-WR-CALDESC:<b>Please note location change!  Due to an anticipated large a
 ttendance\, this Transition Times meeting location has been changed.</b>
X-WR-RELCALID:a11c5c8832ba9e354aa76d14b9569566
X-WR-TIMEZONE:America/New_York
BEGIN:VTIMEZONE
TZID:America/New_York
BEGIN:STANDARD
TZNAME:EST
DTSTART:20191103T020000
TZOFFSETFROM:-0400
TZOFFSETTO:-0500
RDATE:20201101T020000
END:STANDARD
BEGIN:DAYLIGHT
TZNAME:EDT
DTSTART:20190310T020000
TZOFFSETFROM:-0500
TZOFFSETTO:-0400
RDATE:20200308T020000
RDATE:20210314T020000
END:DAYLIGHT
END:VTIMEZONE
BEGIN:VEVENT
UID:7475b019-c7c8-4a26-bd88-3d730d450782
DTSTAMP:20260421T191556Z
DESCRIPTION:<b>Please note location change!  Due to an anticipated large at
 tendance\, this Transition Times meeting location has been changed.</b>
DTSTART;TZID=America/New_York:20200212T190000
DTEND;TZID=America/New_York:20200212T203000
LOCATION:1010 Grandin Avenue\, Multipurpose Room\, Rockville\, MD
SUMMARY:Transition Times Meeting
END:VEVENT
END:VCALENDAR
