BEGIN:VCALENDAR
VERSION:2.0
PRODID:-//thearcmontgomerycounty.org//NONSGML kigkonsult.se iCalcreator 2.3
 0.10//
CALSCALE:GREGORIAN
METHOD:PUBLISH
UID:62dabdc9-f46c-4864-b653-f92d6ae294d7
X-WR-CALDESC:Take 50% off everything in the store.
X-WR-RELCALID:e624604e188a689a91881611521f68f3
X-WR-TIMEZONE:America/New_York
BEGIN:VTIMEZONE
TZID:America/New_York
BEGIN:STANDARD
TZNAME:EST
DTSTART:20191103T020000
TZOFFSETFROM:-0400
TZOFFSETTO:-0500
RDATE:20201101T020000
END:STANDARD
BEGIN:DAYLIGHT
TZNAME:EDT
DTSTART:20190310T020000
TZOFFSETFROM:-0500
TZOFFSETTO:-0400
RDATE:20200308T020000
RDATE:20210314T020000
END:DAYLIGHT
END:VTIMEZONE
BEGIN:VEVENT
UID:275ffecd-3f39-42dc-ba6b-1430724667f7
DTSTAMP:20260421T191935Z
DESCRIPTION:Take 50% off everything in the store.
DTSTART;TZID=America/New_York:20200213T000000
DTEND;TZID=America/New_York:20200217T235900
LOCATION:Urban Thrift\, 10730 Connecticut Avenue\, Kensington\, MD 20895
SUMMARY:Urban Thrift President's Day Sale
END:VEVENT
END:VCALENDAR
