BEGIN:VCALENDAR
VERSION:2.0
PRODID:-//thearcmontgomerycounty.org//NONSGML kigkonsult.se iCalcreator 2.3
 0.10//
CALSCALE:GREGORIAN
METHOD:PUBLISH
UID:d265ca94-4917-4bba-86b5-634c51875a43
X-WR-CALDESC:Take 50% off everything in the store.
X-WR-RELCALID:1b74173a528bfe032da8a92550aba0ef
X-WR-TIMEZONE:America/New_York
BEGIN:VTIMEZONE
TZID:America/New_York
BEGIN:STANDARD
TZNAME:EST
DTSTART:20191103T020000
TZOFFSETFROM:-0400
TZOFFSETTO:-0500
RDATE:20201101T020000
END:STANDARD
BEGIN:DAYLIGHT
TZNAME:EDT
DTSTART:20190310T020000
TZOFFSETFROM:-0500
TZOFFSETTO:-0400
RDATE:20200308T020000
RDATE:20210314T020000
END:DAYLIGHT
END:VTIMEZONE
BEGIN:VEVENT
UID:98b07aa9-026a-4890-b835-e8cc25a2ffca
DTSTAMP:20260421T191726Z
DESCRIPTION:Take 50% off everything in the store.
DTSTART;TZID=America/New_York:20200227T000000
DTEND;TZID=America/New_York:20200301T235900
LOCATION:Urban Thrift\, 10730 Connecticut Avenue\, Kensington\, MD 20895
SUMMARY:Urban Thrift Leap Year Sale
END:VEVENT
END:VCALENDAR
