BEGIN:VCALENDAR
VERSION:2.0
PRODID:-//thearcmontgomerycounty.org//NONSGML kigkonsult.se iCalcreator 2.3
 0.10//
CALSCALE:GREGORIAN
METHOD:PUBLISH
UID:dacfa08c-fe23-4f13-827c-65d6976aa931
X-WR-CALDESC:
X-WR-RELCALID:fa3c5d6121697b2c11b333eb15fb469d
X-WR-TIMEZONE:America/New_York
BEGIN:VTIMEZONE
TZID:America/New_York
BEGIN:STANDARD
TZNAME:EST
DTSTART:20191103T020000
TZOFFSETFROM:-0400
TZOFFSETTO:-0500
RDATE:20201101T020000
END:STANDARD
BEGIN:DAYLIGHT
TZNAME:EDT
DTSTART:20190310T020000
TZOFFSETFROM:-0500
TZOFFSETTO:-0400
RDATE:20200308T020000
RDATE:20210314T020000
END:DAYLIGHT
END:VTIMEZONE
BEGIN:VEVENT
UID:a43d8b42-df51-4d9c-b338-5094dd2837e6
DTSTAMP:20260421T204556Z
DESCRIPTION:
DTSTART;TZID=America/New_York:20200306T160000
DTEND;TZID=America/New_York:20200306T170000
LOCATION:
SUMMARY:Volunteer Orientation-RESCHEDULED to March 13
END:VEVENT
END:VCALENDAR
