BEGIN:VCALENDAR
VERSION:2.0
PRODID:-//thearcmontgomerycounty.org//NONSGML kigkonsult.se iCalcreator 2.3
 0.10//
CALSCALE:GREGORIAN
METHOD:PUBLISH
UID:38535544-b82b-4331-b1bc-5f115c530480
X-WR-CALDESC:CANCELED due to Covid-19 precautions.  Will be rescheduled at 
 a later date.
X-WR-RELCALID:e208d60297fe04acdb84e2d9d312e6ac
X-WR-TIMEZONE:America/New_York
BEGIN:VTIMEZONE
TZID:America/New_York
BEGIN:STANDARD
TZNAME:EST
DTSTART:20191103T020000
TZOFFSETFROM:-0400
TZOFFSETTO:-0500
RDATE:20201101T020000
END:STANDARD
BEGIN:DAYLIGHT
TZNAME:EDT
DTSTART:20200308T020000
TZOFFSETFROM:-0500
TZOFFSETTO:-0400
RDATE:20210314T020000
END:DAYLIGHT
END:VTIMEZONE
BEGIN:VEVENT
UID:abf56153-f460-4264-b7e3-aae69d6067fd
DTSTAMP:20260421T204306Z
DESCRIPTION:CANCELED due to Covid-19 precautions.  Will be rescheduled at a
  later date.
DTSTART;TZID=America/New_York:20200311T190000
DTEND;TZID=America/New_York:20200311T203000
LOCATION:7362 Calhoun Place\, Rockville\, MD 20855
SUMMARY:CANCELLED-Transition Times Meeting
END:VEVENT
END:VCALENDAR
