BEGIN:VCALENDAR
VERSION:2.0
PRODID:-//thearcmontgomerycounty.org//NONSGML kigkonsult.se iCalcreator 2.3
 0.10//
CALSCALE:GREGORIAN
METHOD:PUBLISH
UID:c92676b2-02e9-4f10-88d0-9b6ead93e955
X-WR-CALDESC:Take 50% off everything in the store.
X-WR-RELCALID:2c2cef11b21d096c79d49673bfc885d2
X-WR-TIMEZONE:America/New_York
BEGIN:VTIMEZONE
TZID:America/New_York
BEGIN:STANDARD
TZNAME:EST
DTSTART:20191103T020000
TZOFFSETFROM:-0400
TZOFFSETTO:-0500
RDATE:20201101T020000
END:STANDARD
BEGIN:DAYLIGHT
TZNAME:EDT
DTSTART:20200308T020000
TZOFFSETFROM:-0500
TZOFFSETTO:-0400
RDATE:20210314T020000
END:DAYLIGHT
END:VTIMEZONE
BEGIN:VEVENT
UID:b430d7a8-310e-4aad-a639-65ef6920eaa1
DTSTAMP:20260421T221411Z
DESCRIPTION:Take 50% off everything in the store.
DTSTART;TZID=America/New_York:20200312T000000
DTEND;TZID=America/New_York:20200315T235900
LOCATION:Urban Thrift\, 10730 Connecticut Avenue\, Kensington\, MD 20895
SUMMARY:Urban Thrift St. Patrick's Day Sale
END:VEVENT
END:VCALENDAR
