BEGIN:VCALENDAR
VERSION:2.0
PRODID:-//thearcmontgomerycounty.org//NONSGML kigkonsult.se iCalcreator 2.3
 0.10//
CALSCALE:GREGORIAN
METHOD:PUBLISH
UID:a3213e69-4d77-4a8a-b0da-99a210fb10f3
X-WR-CALDESC:
X-WR-RELCALID:de49fe46c9807883337f645b81994ac6
X-WR-TIMEZONE:America/New_York
BEGIN:VTIMEZONE
TZID:America/New_York
BEGIN:STANDARD
TZNAME:EST
DTSTART:20191103T020000
TZOFFSETFROM:-0400
TZOFFSETTO:-0500
RDATE:20201101T020000
END:STANDARD
BEGIN:DAYLIGHT
TZNAME:EDT
DTSTART:20200308T020000
TZOFFSETFROM:-0500
TZOFFSETTO:-0400
RDATE:20210314T020000
END:DAYLIGHT
END:VTIMEZONE
BEGIN:VEVENT
UID:f0f5f4a0-403d-433d-b15c-34651ace8bdf
DTSTAMP:20260421T204311Z
DESCRIPTION:
DTSTART;TZID=America/New_York:20200313T160000
DTEND;TZID=America/New_York:20200313T170000
LOCATION:7362 Calhoun Place\, Rockville\, MD 20855
SUMMARY:*NEW DATE* Volunteer Orientation
END:VEVENT
END:VCALENDAR
