BEGIN:VCALENDAR
VERSION:2.0
PRODID:-//thearcmontgomerycounty.org//NONSGML kigkonsult.se iCalcreator 2.3
 0.10//
CALSCALE:GREGORIAN
METHOD:PUBLISH
UID:b3ccbb1e-9634-4d41-92af-71a4fd399bfb
X-WR-CALDESC:RESCHEDULED TO MAY 17\, 2020\n\nThe Transition Work Group of M
 ontgomery County and The Jewish Federation of Greater Washington are hosti
 ng a resource fair from 1-3:30 pm.  Join over 35 local organizations to ne
 twork and gather information about post-high school employment\, social\, 
 and recreational programs. This event is FREE\, but registration is requir
 ed.
X-WR-RELCALID:e6ed94df2ecc9e89aa1c6a9b75b8ddbd
X-WR-TIMEZONE:America/New_York
BEGIN:VTIMEZONE
TZID:America/New_York
BEGIN:STANDARD
TZNAME:EST
DTSTART:20191103T020000
TZOFFSETFROM:-0400
TZOFFSETTO:-0500
RDATE:20201101T020000
END:STANDARD
BEGIN:DAYLIGHT
TZNAME:EDT
DTSTART:20200308T020000
TZOFFSETFROM:-0500
TZOFFSETTO:-0400
RDATE:20210314T020000
END:DAYLIGHT
END:VTIMEZONE
BEGIN:VEVENT
UID:2f74b95f-08de-4d54-89ae-1530d5e05a7c
DTSTAMP:20260421T204644Z
DESCRIPTION:RESCHEDULED TO MAY 17\, 2020\n\nThe Transition Work Group of Mo
 ntgomery County and The Jewish Federation of Greater Washington are hostin
 g a resource fair from 1-3:30 pm.  Join over 35 local organizations to net
 work and gather information about post-high school employment\, social\, a
 nd recreational programs. This event is FREE\, but registration is require
 d.
DTSTART;TZID=America/New_York:20200315T130000
DTEND;TZID=America/New_York:20200315T153000
LOCATION:6101 Executive Blvd\, North Bethesda\, MD
SUMMARY:Road to Independence Resource Fair - RESCHEDULED TO MAY 17
END:VEVENT
END:VCALENDAR
