BEGIN:VCALENDAR
VERSION:2.0
PRODID:-//thearcmontgomerycounty.org//NONSGML kigkonsult.se iCalcreator 2.3
 0.10//
CALSCALE:GREGORIAN
METHOD:PUBLISH
UID:90003435-98f5-47c0-8e03-8181020a8d6a
X-WR-CALDESC:Advanced ticket purchase required.\n\nPresented by HUB/The Ins
 urance Exchange
X-WR-RELCALID:4299ca0f911d39233ae49554f38f9679
X-WR-TIMEZONE:America/New_York
BEGIN:VTIMEZONE
TZID:America/New_York
BEGIN:STANDARD
TZNAME:EST
DTSTART:20191103T020000
TZOFFSETFROM:-0400
TZOFFSETTO:-0500
RDATE:20201101T020000
END:STANDARD
BEGIN:DAYLIGHT
TZNAME:EDT
DTSTART:20200308T020000
TZOFFSETFROM:-0500
TZOFFSETTO:-0400
RDATE:20210314T020000
END:DAYLIGHT
END:VTIMEZONE
BEGIN:VEVENT
UID:fc8c3fc7-706d-4c27-a935-7cc5224eb737
DTSTAMP:20260421T204230Z
DESCRIPTION:Advanced ticket purchase required.\n\nPresented by HUB/The Insu
 rance Exchange
DTSTART;TZID=America/New_York:20200326T073000
DTEND;TZID=America/New_York:20200326T090000
LOCATION:Bethesda Marriott\, 5151 Pooks Hill Road\, Bethesda\, MD 20814
SUMMARY:Networking Breakfast - POSTPONED (New Date Coming Soon)
END:VEVENT
END:VCALENDAR
