BEGIN:VCALENDAR
VERSION:2.0
PRODID:-//thearcmontgomerycounty.org//NONSGML kigkonsult.se iCalcreator 2.3
 0.10//
CALSCALE:GREGORIAN
METHOD:PUBLISH
UID:d1211792-d0c7-4402-92dd-8a0127c852c0
X-WR-CALDESC:Take 50% off everything in the store.
X-WR-RELCALID:36d9dd3235872c6e7cf5383b48338506
X-WR-TIMEZONE:America/New_York
BEGIN:VTIMEZONE
TZID:America/New_York
BEGIN:STANDARD
TZNAME:EST
DTSTART:20191103T020000
TZOFFSETFROM:-0400
TZOFFSETTO:-0500
RDATE:20201101T020000
END:STANDARD
BEGIN:DAYLIGHT
TZNAME:EDT
DTSTART:20200308T020000
TZOFFSETFROM:-0500
TZOFFSETTO:-0400
RDATE:20210314T020000
END:DAYLIGHT
END:VTIMEZONE
BEGIN:VEVENT
UID:75934432-d3ac-4a57-b9e6-31c52cd6b4cc
DTSTAMP:20260421T204420Z
DESCRIPTION:Take 50% off everything in the store.
DTSTART;TZID=America/New_York:20200326T000000
DTEND;TZID=America/New_York:20200329T235900
LOCATION:Urban Thrift\, 10730 Connecticut Avenue\, Kensington\, MD 20895
SUMMARY:Urban Thrift Jump Into Spring Sale
END:VEVENT
END:VCALENDAR
