BEGIN:VCALENDAR
VERSION:2.0
PRODID:-//thearcmontgomerycounty.org//NONSGML kigkonsult.se iCalcreator 2.3
 0.10//
CALSCALE:GREGORIAN
METHOD:PUBLISH
UID:a946a7bd-cff1-405d-beb8-b1c4bd5a71ea
X-WR-CALDESC:
X-WR-RELCALID:a001a11ba876a533951ea105118af900
X-WR-TIMEZONE:America/New_York
BEGIN:VTIMEZONE
TZID:America/New_York
BEGIN:STANDARD
TZNAME:EST
DTSTART:20191103T020000
TZOFFSETFROM:-0400
TZOFFSETTO:-0500
RDATE:20201101T020000
END:STANDARD
BEGIN:DAYLIGHT
TZNAME:EDT
DTSTART:20200308T020000
TZOFFSETFROM:-0500
TZOFFSETTO:-0400
RDATE:20210314T020000
END:DAYLIGHT
END:VTIMEZONE
BEGIN:VEVENT
UID:3bc683fd-7f63-4215-b5af-49df581cdfbf
DTSTAMP:20260421T221120Z
DESCRIPTION:
DTSTART;TZID=America/New_York:20200403T160000
DTEND;TZID=America/New_York:20200403T170000
LOCATION:7362 Calhoun Place\, Rockville\, MD 20855
SUMMARY:Volunteer Orientation - CANCELLED
END:VEVENT
END:VCALENDAR
