BEGIN:VCALENDAR
VERSION:2.0
PRODID:-//thearcmontgomerycounty.org//NONSGML kigkonsult.se iCalcreator 2.3
 0.10//
CALSCALE:GREGORIAN
METHOD:PUBLISH
UID:b6141ace-cd75-4a4f-977d-881deb76e311
X-WR-CALDESC:
X-WR-RELCALID:92e57195deef728f3cdcbd098fdce508
X-WR-TIMEZONE:America/New_York
BEGIN:VTIMEZONE
TZID:America/New_York
BEGIN:STANDARD
TZNAME:EST
DTSTART:20191103T020000
TZOFFSETFROM:-0400
TZOFFSETTO:-0500
RDATE:20201101T020000
END:STANDARD
BEGIN:DAYLIGHT
TZNAME:EDT
DTSTART:20200308T020000
TZOFFSETFROM:-0500
TZOFFSETTO:-0400
RDATE:20210314T020000
END:DAYLIGHT
END:VTIMEZONE
BEGIN:VEVENT
UID:05b411b8-d643-41e1-8274-cceec9c1e664
DTSTAMP:20260421T221027Z
DESCRIPTION:
DTSTART;TZID=America/New_York:20200422T190000
DTEND;TZID=America/New_York:20200422T203000
LOCATION:7362 Calhoun Place\, Rockville\, MD 20855
SUMMARY:Transition Times Meeting
END:VEVENT
END:VCALENDAR
