BEGIN:VCALENDAR
VERSION:2.0
PRODID:-//thearcmontgomerycounty.org//NONSGML kigkonsult.se iCalcreator 2.3
 0.10//
CALSCALE:GREGORIAN
METHOD:PUBLISH
UID:e6aaeac1-9ff3-4458-8c35-9748073a0d7b
X-WR-CALDESC:
X-WR-RELCALID:62e980460993b22ada067c9719cdecae
X-WR-TIMEZONE:America/New_York
BEGIN:VTIMEZONE
TZID:America/New_York
BEGIN:STANDARD
TZNAME:EST
DTSTART:20191103T020000
TZOFFSETFROM:-0400
TZOFFSETTO:-0500
RDATE:20201101T020000
RDATE:20211107T020000
END:STANDARD
BEGIN:DAYLIGHT
TZNAME:EDT
DTSTART:20200308T020000
TZOFFSETFROM:-0500
TZOFFSETTO:-0400
RDATE:20210314T020000
END:DAYLIGHT
END:VTIMEZONE
BEGIN:VEVENT
UID:25da45e3-dd06-48c9-b134-02a0b7585f69
DTSTAMP:20260421T234042Z
DESCRIPTION:
DTSTART;TZID=America/New_York:20200513T190000
DTEND;TZID=America/New_York:20200513T203000
LOCATION:7362 Calhoun Place\, Rockville\, MD 20855
SUMMARY:Transition Times Meeting - CANCELLED
END:VEVENT
END:VCALENDAR
