BEGIN:VCALENDAR
VERSION:2.0
PRODID:-//thearcmontgomerycounty.org//NONSGML kigkonsult.se iCalcreator 2.3
 0.10//
CALSCALE:GREGORIAN
METHOD:PUBLISH
UID:4c621c4c-464c-4206-a266-f20272734001
X-WR-CALDESC:The Transition Work Group of Montgomery County and The Jewish 
 Federation of Greater Washington are hosting a resource fair from 1-3:30 p
 m.  Join over 35 local organizations to network and gather information abo
 ut post-high school employment\, social\, and recreational programs. This 
 event is FREE\, but registration is required.\n\n***PLEASE NOTE: Because o
 f Covid-19 concerns\, this event is now a VIRTUAL FAIR. For more informati
 on\, please contact The Jewish Federation at inclusion@shalomdc.org or cal
 l 301-230-7200.
X-WR-RELCALID:96c6d1072c69b17dcaf9cd77c18ad412
X-WR-TIMEZONE:America/New_York
BEGIN:VTIMEZONE
TZID:America/New_York
BEGIN:STANDARD
TZNAME:EST
DTSTART:20191103T020000
TZOFFSETFROM:-0400
TZOFFSETTO:-0500
RDATE:20201101T020000
RDATE:20211107T020000
END:STANDARD
BEGIN:DAYLIGHT
TZNAME:EDT
DTSTART:20200308T020000
TZOFFSETFROM:-0500
TZOFFSETTO:-0400
RDATE:20210314T020000
END:DAYLIGHT
END:VTIMEZONE
BEGIN:VEVENT
UID:803810f8-90be-4a21-af76-b720b23e8da0
DTSTAMP:20260422T005729Z
DESCRIPTION:The Transition Work Group of Montgomery County and The Jewish F
 ederation of Greater Washington are hosting a resource fair from 1-3:30 pm
 .  Join over 35 local organizations to network and gather information abou
 t post-high school employment\, social\, and recreational programs. This e
 vent is FREE\, but registration is required.\n\n***PLEASE NOTE: Because of
  Covid-19 concerns\, this event is now a VIRTUAL FAIR. For more informatio
 n\, please contact The Jewish Federation at inclusion@shalomdc.org or call
  301-230-7200.
DTSTART;TZID=America/New_York:20200517T130000
DTEND;TZID=America/New_York:20200517T153000
LOCATION:ONLINE
SUMMARY:Road to Independence Resource Fair - *Now VIRTUAL Format
END:VEVENT
END:VCALENDAR
