BEGIN:VCALENDAR
VERSION:2.0
PRODID:-//thearcmontgomerycounty.org//NONSGML kigkonsult.se iCalcreator 2.3
 0.10//
CALSCALE:GREGORIAN
METHOD:PUBLISH
UID:ca30294c-4949-4619-9536-20179ca18ce3
X-WR-CALDESC:Offices closed.\nChildren & Youth Services programs closed.\nV
 ocational & Day Services programs closed.
X-WR-RELCALID:9f32870b5aed38b8b35d33557b343ed7
X-WR-TIMEZONE:America/New_York
BEGIN:VTIMEZONE
TZID:America/New_York
BEGIN:STANDARD
TZNAME:EST
DTSTART:20191103T020000
TZOFFSETFROM:-0400
TZOFFSETTO:-0500
RDATE:20201101T020000
RDATE:20211107T020000
END:STANDARD
BEGIN:DAYLIGHT
TZNAME:EDT
DTSTART:20200308T020000
TZOFFSETFROM:-0500
TZOFFSETTO:-0400
RDATE:20210314T020000
END:DAYLIGHT
END:VTIMEZONE
BEGIN:VEVENT
UID:85244c9a-4c21-445f-9fd8-5f68ab589eaa
DTSTAMP:20260422T005913Z
DESCRIPTION:Offices closed.\nChildren & Youth Services programs closed.\nVo
 cational & Day Services programs closed.
DTSTART;TZID=America/New_York:20200525T000000
DTEND;TZID=America/New_York:20200525T235900
LOCATION:
SUMMARY:Memorial Day Holiday
END:VEVENT
END:VCALENDAR
