BEGIN:VCALENDAR
VERSION:2.0
PRODID:-//thearcmontgomerycounty.org//NONSGML kigkonsult.se iCalcreator 2.3
 0.10//
CALSCALE:GREGORIAN
METHOD:PUBLISH
UID:21637a1d-4bd4-4735-91f2-2f0566cc1e3c
X-WR-CALDESC:Restricted to current members.
X-WR-RELCALID:49f5f300ef24ed1567ac4bd2565fbdc5
X-WR-TIMEZONE:America/New_York
BEGIN:VTIMEZONE
TZID:America/New_York
BEGIN:STANDARD
TZNAME:EST
DTSTART:20191103T020000
TZOFFSETFROM:-0400
TZOFFSETTO:-0500
RDATE:20201101T020000
RDATE:20211107T020000
END:STANDARD
BEGIN:DAYLIGHT
TZNAME:EDT
DTSTART:20200308T020000
TZOFFSETFROM:-0500
TZOFFSETTO:-0400
RDATE:20210314T020000
END:DAYLIGHT
END:VTIMEZONE
BEGIN:VEVENT
UID:fb6894a0-8bd8-4a83-8817-05d59f2b39e3
DTSTAMP:20260422T005739Z
DESCRIPTION:Restricted to current members.
DTSTART;TZID=America/New_York:20200625T190000
DTEND;TZID=America/New_York:20200625T200000
LOCATION:VIRTUALLY on Zoom
SUMMARY:Annual Membership Meeting
END:VEVENT
END:VCALENDAR
