BEGIN:VCALENDAR
VERSION:2.0
PRODID:-//thearcmontgomerycounty.org//NONSGML kigkonsult.se iCalcreator 2.3
 0.10//
CALSCALE:GREGORIAN
METHOD:PUBLISH
UID:01ffe0bd-dde7-47d4-af2e-f93173a1d529
X-WR-CALDESC:<i>Join us on Zoom for a Parent Information Exchange Night!</i
 >\n\nShare tips with other families about how you have supported your adul
 t child during COVID-19\nShare tips recommended by professionals or adults
  clients\nBring questions for others to answer\nAbsorb all the information
  and meet new people\n
X-WR-RELCALID:e8dac79234825d19912be08d85aeb427
X-WR-TIMEZONE:America/New_York
BEGIN:VTIMEZONE
TZID:America/New_York
BEGIN:STANDARD
TZNAME:EST
DTSTART:20191103T020000
TZOFFSETFROM:-0400
TZOFFSETTO:-0500
RDATE:20201101T020000
RDATE:20211107T020000
END:STANDARD
BEGIN:DAYLIGHT
TZNAME:EDT
DTSTART:20200308T020000
TZOFFSETFROM:-0500
TZOFFSETTO:-0400
RDATE:20210314T020000
END:DAYLIGHT
END:VTIMEZONE
BEGIN:VEVENT
UID:59c2568d-eece-4412-93d5-4410e8c2722f
DTSTAMP:20260422T033829Z
DESCRIPTION:<i>Join us on Zoom for a Parent Information Exchange Night!</i>
 \n\nShare tips with other families about how you have supported your adult
  child during COVID-19\nShare tips recommended by professionals or adults 
 clients\nBring questions for others to answer\nAbsorb all the information 
 and meet new people\n
DTSTART;TZID=America/New_York:20200820T190000
DTEND;TZID=America/New_York:20200820T203000
LOCATION:Zoom Videoconference
SUMMARY:Transition Times Meeting
END:VEVENT
END:VCALENDAR
