BEGIN:VCALENDAR
VERSION:2.0
PRODID:-//thearcmontgomerycounty.org//NONSGML kigkonsult.se iCalcreator 2.3
 0.10//
CALSCALE:GREGORIAN
METHOD:PUBLISH
UID:b68bc451-39ed-4a49-a83e-6f3d8859e93c
X-WR-CALDESC:Enjoy a delicious dinner out and benefit The Arc!  Order takeo
 ut between 5 and 9 pm from the Ellsworth Drive Chipotle in Silver Spring\,
  <b>enter promo code CMD3Y3X</b> and Chipotle will donate 33% of the total
  cost of your purchase to support our programs for children and youth.  It
 's a win/win!
X-WR-RELCALID:a48595d7c7cc598a04d3e79ab8a87b67
X-WR-TIMEZONE:America/New_York
BEGIN:VTIMEZONE
TZID:America/New_York
BEGIN:STANDARD
TZNAME:EST
DTSTART:20191103T020000
TZOFFSETFROM:-0400
TZOFFSETTO:-0500
RDATE:20201101T020000
RDATE:20211107T020000
END:STANDARD
BEGIN:DAYLIGHT
TZNAME:EDT
DTSTART:20200308T020000
TZOFFSETFROM:-0500
TZOFFSETTO:-0400
RDATE:20210314T020000
RDATE:20220313T020000
END:DAYLIGHT
END:VTIMEZONE
BEGIN:VEVENT
UID:b4772c30-418b-4fb0-b53b-a1ac6e86786f
DTSTAMP:20260422T045657Z
DESCRIPTION:Enjoy a delicious dinner out and benefit The Arc!  Order takeou
 t between 5 and 9 pm from the Ellsworth Drive Chipotle in Silver Spring\, 
 <b>enter promo code CMD3Y3X</b> and Chipotle will donate 33% of the total 
 cost of your purchase to support our programs for children and youth.  It'
 s a win/win!
DTSTART;TZID=America/New_York:20200926T170000
DTEND;TZID=America/New_York:20200926T210000
LOCATION:907 Ellsworth Drive\, Silver Spring\, MD 20910 US
SUMMARY:Chipotle Fundraiser to Benefit Children & Youth Services
END:VEVENT
END:VCALENDAR
