BEGIN:VCALENDAR
VERSION:2.0
PRODID:-//thearcmontgomerycounty.org//NONSGML kigkonsult.se iCalcreator 2.3
 0.10//
CALSCALE:GREGORIAN
METHOD:PUBLISH
UID:398f69b1-2139-4e89-ba23-b0e430c90732
X-WR-CALDESC:<i>Simplifying Life with Technology</i>\n\nLearn how to get mo
 re out of your devices to help with social connection\, independence and h
 aving fun!
X-WR-RELCALID:fa3b88905252c13d4508bcb8a9c70003
X-WR-TIMEZONE:America/New_York
BEGIN:VTIMEZONE
TZID:America/New_York
BEGIN:STANDARD
TZNAME:EST
DTSTART:20201101T020000
TZOFFSETFROM:-0400
TZOFFSETTO:-0500
RDATE:20211107T020000
END:STANDARD
BEGIN:DAYLIGHT
TZNAME:EDT
DTSTART:20200308T020000
TZOFFSETFROM:-0500
TZOFFSETTO:-0400
RDATE:20210314T020000
RDATE:20220313T020000
END:DAYLIGHT
END:VTIMEZONE
BEGIN:VEVENT
UID:4d203574-6d4a-47f3-a013-c7519cd6049e
DTSTAMP:20260422T072451Z
DESCRIPTION:<i>Simplifying Life with Technology</i>\n\nLearn how to get mor
 e out of your devices to help with social connection\, independence and ha
 ving fun!
DTSTART;TZID=America/New_York:20201105T190000
DTEND;TZID=America/New_York:20201105T203000
LOCATION:Zoom Videoconference
SUMMARY:Transition Times Meeting
END:VEVENT
END:VCALENDAR
